BEGIN:VCALENDAR
VERSION:2.0
PRODID:-//St. Peter Schule - ECPv6.15.20//NONSGML v1.0//EN
CALSCALE:GREGORIAN
METHOD:PUBLISH
X-ORIGINAL-URL:https://www.st-peter-schule-duesseldorf.de
X-WR-CALDESC:Veranstaltungen für St. Peter Schule
REFRESH-INTERVAL;VALUE=DURATION:PT1H
X-Robots-Tag:noindex
X-PUBLISHED-TTL:PT1H
BEGIN:VTIMEZONE
TZID:Europe/Berlin
BEGIN:DAYLIGHT
TZOFFSETFROM:+0100
TZOFFSETTO:+0200
TZNAME:CEST
DTSTART:20250330T010000
END:DAYLIGHT
BEGIN:STANDARD
TZOFFSETFROM:+0200
TZOFFSETTO:+0100
TZNAME:CET
DTSTART:20251026T010000
END:STANDARD
BEGIN:DAYLIGHT
TZOFFSETFROM:+0100
TZOFFSETTO:+0200
TZNAME:CEST
DTSTART:20260329T010000
END:DAYLIGHT
BEGIN:STANDARD
TZOFFSETFROM:+0200
TZOFFSETTO:+0100
TZNAME:CET
DTSTART:20261025T010000
END:STANDARD
BEGIN:DAYLIGHT
TZOFFSETFROM:+0100
TZOFFSETTO:+0200
TZNAME:CEST
DTSTART:20270328T010000
END:DAYLIGHT
BEGIN:STANDARD
TZOFFSETFROM:+0200
TZOFFSETTO:+0100
TZNAME:CET
DTSTART:20271031T010000
END:STANDARD
END:VTIMEZONE
BEGIN:VEVENT
DTSTART;VALUE=DATE:20260604
DTEND;VALUE=DATE:20260605
DTSTAMP:20260421T124206
CREATED:20250812T135736Z
LAST-MODIFIED:20250812T135736Z
UID:5288-1780531200-1780617599@www.st-peter-schule-duesseldorf.de
SUMMARY:Fronleichnam (schulfrei)
DESCRIPTION:
URL:https://www.st-peter-schule-duesseldorf.de/event/fronleichnam-schulfrei-2/
END:VEVENT
BEGIN:VEVENT
DTSTART;VALUE=DATE:20260605
DTEND;VALUE=DATE:20260606
DTSTAMP:20260421T124206
CREATED:20250212T131742Z
LAST-MODIFIED:20250212T131742Z
UID:4924-1780617600-1780703999@www.st-peter-schule-duesseldorf.de
SUMMARY:Beweglicher Ferientag
DESCRIPTION:
URL:https://www.st-peter-schule-duesseldorf.de/event/beweglicher-ferientag-5/
END:VEVENT
BEGIN:VEVENT
DTSTART;VALUE=DATE:20260624
DTEND;VALUE=DATE:20260625
DTSTAMP:20260421T124206
CREATED:20250812T140949Z
LAST-MODIFIED:20250812T140949Z
UID:5305-1782259200-1782345599@www.st-peter-schule-duesseldorf.de
SUMMARY:Zeugniskonferenz
DESCRIPTION:
URL:https://www.st-peter-schule-duesseldorf.de/event/zeugniskonferenz-2/
END:VEVENT
BEGIN:VEVENT
DTSTART;TZID=Europe/Berlin:20260626T080000
DTEND;TZID=Europe/Berlin:20260626T170000
DTSTAMP:20260421T124206
CREATED:20250812T141041Z
LAST-MODIFIED:20250812T141041Z
UID:5307-1782460800-1782493200@www.st-peter-schule-duesseldorf.de
SUMMARY:Sportfest
DESCRIPTION:
URL:https://www.st-peter-schule-duesseldorf.de/event/sportfest/
END:VEVENT
END:VCALENDAR