BEGIN:VCALENDAR
VERSION:2.0
PRODID:-//St. Peter Schule - ECPv6.15.20//NONSGML v1.0//EN
CALSCALE:GREGORIAN
METHOD:PUBLISH
X-WR-CALNAME:St. Peter Schule
X-ORIGINAL-URL:https://www.st-peter-schule-duesseldorf.de
X-WR-CALDESC:Veranstaltungen für St. Peter Schule
REFRESH-INTERVAL;VALUE=DURATION:PT1H
X-Robots-Tag:noindex
X-PUBLISHED-TTL:PT1H
BEGIN:VTIMEZONE
TZID:Europe/Berlin
BEGIN:DAYLIGHT
TZOFFSETFROM:+0100
TZOFFSETTO:+0200
TZNAME:CEST
DTSTART:20250330T010000
END:DAYLIGHT
BEGIN:STANDARD
TZOFFSETFROM:+0200
TZOFFSETTO:+0100
TZNAME:CET
DTSTART:20251026T010000
END:STANDARD
BEGIN:DAYLIGHT
TZOFFSETFROM:+0100
TZOFFSETTO:+0200
TZNAME:CEST
DTSTART:20260329T010000
END:DAYLIGHT
BEGIN:STANDARD
TZOFFSETFROM:+0200
TZOFFSETTO:+0100
TZNAME:CET
DTSTART:20261025T010000
END:STANDARD
BEGIN:DAYLIGHT
TZOFFSETFROM:+0100
TZOFFSETTO:+0200
TZNAME:CEST
DTSTART:20270328T010000
END:DAYLIGHT
BEGIN:STANDARD
TZOFFSETFROM:+0200
TZOFFSETTO:+0100
TZNAME:CET
DTSTART:20271031T010000
END:STANDARD
END:VTIMEZONE
BEGIN:VEVENT
DTSTART;VALUE=DATE:20260501
DTEND;VALUE=DATE:20260502
DTSTAMP:20260422T124606
CREATED:20250928T195206Z
LAST-MODIFIED:20250928T195326Z
UID:5402-1777593600-1777679999@www.st-peter-schule-duesseldorf.de
SUMMARY:Tag der Arbeit (schulfrei)
DESCRIPTION:
URL:https://www.st-peter-schule-duesseldorf.de/event/tag-der-arbeit/
END:VEVENT
BEGIN:VEVENT
DTSTART;VALUE=DATE:20260508
DTEND;VALUE=DATE:20260509
DTSTAMP:20260422T124606
CREATED:20250812T141214Z
LAST-MODIFIED:20250812T141214Z
UID:5313-1778198400-1778284799@www.st-peter-schule-duesseldorf.de
SUMMARY:Tag der Talente OGS
DESCRIPTION:
URL:https://www.st-peter-schule-duesseldorf.de/event/tag-der-talente-ogs-2/
END:VEVENT
BEGIN:VEVENT
DTSTART;TZID=Europe/Berlin:20260509T100000
DTEND;TZID=Europe/Berlin:20260509T130000
DTSTAMP:20260422T124606
CREATED:20260129T111925Z
LAST-MODIFIED:20260129T111925Z
UID:5596-1778320800-1778331600@www.st-peter-schule-duesseldorf.de
SUMMARY:Vater-Kind-Kochen
DESCRIPTION:
URL:https://www.st-peter-schule-duesseldorf.de/event/vater-kind-kochen/
END:VEVENT
BEGIN:VEVENT
DTSTART;VALUE=DATE:20260514
DTEND;VALUE=DATE:20260515
DTSTAMP:20260422T124606
CREATED:20250812T135700Z
LAST-MODIFIED:20250812T135700Z
UID:5286-1778716800-1778803199@www.st-peter-schule-duesseldorf.de
SUMMARY:Christi Himmelfahrt (schulfrei)
DESCRIPTION:
URL:https://www.st-peter-schule-duesseldorf.de/event/christi-himmelfahrt-schulfrei/
END:VEVENT
BEGIN:VEVENT
DTSTART;TZID=Europe/Berlin:20260515T080000
DTEND;TZID=Europe/Berlin:20260515T114500
DTSTAMP:20260422T124606
CREATED:20250812T135537Z
LAST-MODIFIED:20250812T135537Z
UID:5282-1778832000-1778845500@www.st-peter-schule-duesseldorf.de
SUMMARY:Sponsorenlauf
DESCRIPTION:
URL:https://www.st-peter-schule-duesseldorf.de/event/sponsorenlauf-3/
END:VEVENT
BEGIN:VEVENT
DTSTART;VALUE=DATE:20260525
DTEND;VALUE=DATE:20260526
DTSTAMP:20260422T124606
CREATED:20250812T135837Z
LAST-MODIFIED:20250812T135837Z
UID:5292-1779667200-1779753599@www.st-peter-schule-duesseldorf.de
SUMMARY:Pfingstmontag (schulfrei)
DESCRIPTION:
URL:https://www.st-peter-schule-duesseldorf.de/event/pfingstmontag-schulfrei/
END:VEVENT
BEGIN:VEVENT
DTSTART;VALUE=DATE:20260526
DTEND;VALUE=DATE:20260527
DTSTAMP:20260422T124606
CREATED:20250812T140004Z
LAST-MODIFIED:20250812T140004Z
UID:5294-1779753600-1779839999@www.st-peter-schule-duesseldorf.de
SUMMARY:Pfingstdienstag (schulfrei und OGS geschlossen)
DESCRIPTION:
URL:https://www.st-peter-schule-duesseldorf.de/event/pfingstdienstag-schulfrei-und-ogs-geschlossen/
END:VEVENT
END:VCALENDAR