BEGIN:VCALENDAR
VERSION:2.0
PRODID:-//St. Peter Schule - ECPv6.15.20//NONSGML v1.0//EN
CALSCALE:GREGORIAN
METHOD:PUBLISH
X-ORIGINAL-URL:https://www.st-peter-schule-duesseldorf.de
X-WR-CALDESC:Veranstaltungen für St. Peter Schule
REFRESH-INTERVAL;VALUE=DURATION:PT1H
X-Robots-Tag:noindex
X-PUBLISHED-TTL:PT1H
BEGIN:VTIMEZONE
TZID:Europe/Berlin
BEGIN:DAYLIGHT
TZOFFSETFROM:+0100
TZOFFSETTO:+0200
TZNAME:CEST
DTSTART:20240331T010000
END:DAYLIGHT
BEGIN:STANDARD
TZOFFSETFROM:+0200
TZOFFSETTO:+0100
TZNAME:CET
DTSTART:20241027T010000
END:STANDARD
BEGIN:DAYLIGHT
TZOFFSETFROM:+0100
TZOFFSETTO:+0200
TZNAME:CEST
DTSTART:20250330T010000
END:DAYLIGHT
BEGIN:STANDARD
TZOFFSETFROM:+0200
TZOFFSETTO:+0100
TZNAME:CET
DTSTART:20251026T010000
END:STANDARD
BEGIN:DAYLIGHT
TZOFFSETFROM:+0100
TZOFFSETTO:+0200
TZNAME:CEST
DTSTART:20260329T010000
END:DAYLIGHT
BEGIN:STANDARD
TZOFFSETFROM:+0200
TZOFFSETTO:+0100
TZNAME:CET
DTSTART:20261025T010000
END:STANDARD
END:VTIMEZONE
BEGIN:VEVENT
DTSTART;TZID=Europe/Berlin:20251104T080000
DTEND;TZID=Europe/Berlin:20251104T113000
DTSTAMP:20260420T210709
CREATED:20250928T200945Z
LAST-MODIFIED:20250928T200945Z
UID:5406-1762243200-1762255800@www.st-peter-schule-duesseldorf.de
SUMMARY:St. Martin in der Schule
DESCRIPTION:
URL:https://www.st-peter-schule-duesseldorf.de/event/st-martin-in-der-schule/
END:VEVENT
BEGIN:VEVENT
DTSTART;TZID=Europe/Berlin:20251104T170000
DTEND;TZID=Europe/Berlin:20251104T183000
DTSTAMP:20260420T210709
CREATED:20250812T132707Z
LAST-MODIFIED:20250929T092312Z
UID:5237-1762275600-1762281000@www.st-peter-schule-duesseldorf.de
SUMMARY:St. Martinszug (Termin zunächst vorläufig)
DESCRIPTION:16.40 Uhr Treffen auf dem Schulhof
URL:https://www.st-peter-schule-duesseldorf.de/event/st-martinszug-termin-zunaechst-vorlaeufig/
END:VEVENT
BEGIN:VEVENT
DTSTART;TZID=Europe/Berlin:20251105T080000
DTEND;TZID=Europe/Berlin:20251105T090000
DTSTAMP:20260420T210709
CREATED:20250929T091947Z
LAST-MODIFIED:20250929T091947Z
UID:5412-1762329600-1762333200@www.st-peter-schule-duesseldorf.de
SUMMARY:St. Martinsgottesdienst
DESCRIPTION:8.15 Uhr – 9.00 Uhr in der St.-Peter-Kirche
URL:https://www.st-peter-schule-duesseldorf.de/event/st-martinsgottesdienst/
END:VEVENT
BEGIN:VEVENT
DTSTART;VALUE=DATE:20251117
DTEND;VALUE=DATE:20251122
DTSTAMP:20260420T210709
CREATED:20250812T132951Z
LAST-MODIFIED:20250928T202054Z
UID:5249-1763337600-1763769599@www.st-peter-schule-duesseldorf.de
SUMMARY:Elternsprechtage Klasse 1-3\, Beratungsgespräche Klasse 4
DESCRIPTION:
URL:https://www.st-peter-schule-duesseldorf.de/event/elternsprechwoche-4/
END:VEVENT
BEGIN:VEVENT
DTSTART;VALUE=DATE:20251121
DTEND;VALUE=DATE:20251122
DTSTAMP:20260420T210709
CREATED:20250812T133352Z
LAST-MODIFIED:20250812T134721Z
UID:5251-1763683200-1763769599@www.st-peter-schule-duesseldorf.de
SUMMARY:Bundesweiter Vorlesetag
DESCRIPTION:
URL:https://www.st-peter-schule-duesseldorf.de/event/bundesweiter-vorlesetag/
END:VEVENT
BEGIN:VEVENT
DTSTART;TZID=Europe/Berlin:20251121T150000
DTEND;TZID=Europe/Berlin:20251121T170000
DTSTAMP:20260420T210709
CREATED:20250812T133415Z
LAST-MODIFIED:20250812T133415Z
UID:5253-1763737200-1763744400@www.st-peter-schule-duesseldorf.de
SUMMARY:Adventsmarkt
DESCRIPTION:
URL:https://www.st-peter-schule-duesseldorf.de/event/adventsmarkt/
END:VEVENT
END:VCALENDAR