BEGIN:VCALENDAR
VERSION:2.0
PRODID:-//St. Peter Schule - ECPv6.15.20//NONSGML v1.0//EN
CALSCALE:GREGORIAN
METHOD:PUBLISH
X-WR-CALNAME:St. Peter Schule
X-ORIGINAL-URL:https://www.st-peter-schule-duesseldorf.de
X-WR-CALDESC:Veranstaltungen für St. Peter Schule
REFRESH-INTERVAL;VALUE=DURATION:PT1H
X-Robots-Tag:noindex
X-PUBLISHED-TTL:PT1H
BEGIN:VTIMEZONE
TZID:Europe/Berlin
BEGIN:DAYLIGHT
TZOFFSETFROM:+0100
TZOFFSETTO:+0200
TZNAME:CEST
DTSTART:20240331T010000
END:DAYLIGHT
BEGIN:STANDARD
TZOFFSETFROM:+0200
TZOFFSETTO:+0100
TZNAME:CET
DTSTART:20241027T010000
END:STANDARD
BEGIN:DAYLIGHT
TZOFFSETFROM:+0100
TZOFFSETTO:+0200
TZNAME:CEST
DTSTART:20250330T010000
END:DAYLIGHT
BEGIN:STANDARD
TZOFFSETFROM:+0200
TZOFFSETTO:+0100
TZNAME:CET
DTSTART:20251026T010000
END:STANDARD
BEGIN:DAYLIGHT
TZOFFSETFROM:+0100
TZOFFSETTO:+0200
TZNAME:CEST
DTSTART:20260329T010000
END:DAYLIGHT
BEGIN:STANDARD
TZOFFSETFROM:+0200
TZOFFSETTO:+0100
TZNAME:CET
DTSTART:20261025T010000
END:STANDARD
END:VTIMEZONE
BEGIN:VEVENT
DTSTART;TZID=Europe/Berlin:20250908T190000
DTEND;TZID=Europe/Berlin:20250908T200000
DTSTAMP:20260421T004219
CREATED:20250820T130811Z
LAST-MODIFIED:20250820T130811Z
UID:5326-1757358000-1757361600@www.st-peter-schule-duesseldorf.de
SUMMARY:Elternabend 2. Klassen
DESCRIPTION:
URL:https://www.st-peter-schule-duesseldorf.de/event/elternabend-2-klassen/
END:VEVENT
BEGIN:VEVENT
DTSTART;TZID=Europe/Berlin:20250909T190000
DTEND;TZID=Europe/Berlin:20250909T200000
DTSTAMP:20260421T004219
CREATED:20250820T130841Z
LAST-MODIFIED:20250820T130841Z
UID:5328-1757444400-1757448000@www.st-peter-schule-duesseldorf.de
SUMMARY:Elternabend 3. Klassen
DESCRIPTION:
URL:https://www.st-peter-schule-duesseldorf.de/event/elternabend-3-klassen/
END:VEVENT
BEGIN:VEVENT
DTSTART;TZID=Europe/Berlin:20250910T190000
DTEND;TZID=Europe/Berlin:20250910T200000
DTSTAMP:20260421T004219
CREATED:20250820T130913Z
LAST-MODIFIED:20250820T130913Z
UID:5330-1757530800-1757534400@www.st-peter-schule-duesseldorf.de
SUMMARY:Elternabend 1. Klasse
DESCRIPTION:
URL:https://www.st-peter-schule-duesseldorf.de/event/elternabend-1-klasse/
END:VEVENT
BEGIN:VEVENT
DTSTART;TZID=Europe/Berlin:20250911T190000
DTEND;TZID=Europe/Berlin:20250911T200000
DTSTAMP:20260421T004219
CREATED:20250820T130633Z
LAST-MODIFIED:20250820T130633Z
UID:5323-1757617200-1757620800@www.st-peter-schule-duesseldorf.de
SUMMARY:Elternabend 4. Klassen
DESCRIPTION:
URL:https://www.st-peter-schule-duesseldorf.de/event/elternabend-4-klassen/
LOCATION:Klassenraum
END:VEVENT
BEGIN:VEVENT
DTSTART;VALUE=DATE:20250918
DTEND;VALUE=DATE:20250919
DTSTAMP:20260421T004219
CREATED:20250812T132336Z
LAST-MODIFIED:20250812T132336Z
UID:5227-1758153600-1758239999@www.st-peter-schule-duesseldorf.de
SUMMARY:Projekttag "Energie gewinnen"
DESCRIPTION:
URL:https://www.st-peter-schule-duesseldorf.de/event/projekttag-energie-gewinnen/
END:VEVENT
BEGIN:VEVENT
DTSTART;TZID=Europe/Berlin:20250925T190000
DTEND;TZID=Europe/Berlin:20250925T200000
DTSTAMP:20260421T004219
CREATED:20250812T133516Z
LAST-MODIFIED:20250903T194234Z
UID:5255-1758826800-1758830400@www.st-peter-schule-duesseldorf.de
SUMMARY:Infoabend neue Erstklässler
DESCRIPTION:
URL:https://www.st-peter-schule-duesseldorf.de/event/infoabend-neue-erstklaessler/
END:VEVENT
BEGIN:VEVENT
DTSTART;VALUE=DATE:20250927
DTEND;VALUE=DATE:20250928
DTSTAMP:20260421T004219
CREATED:20250812T132413Z
LAST-MODIFIED:20250812T132413Z
UID:5229-1758931200-1759017599@www.st-peter-schule-duesseldorf.de
SUMMARY:Tag der offenen Tür
DESCRIPTION:
URL:https://www.st-peter-schule-duesseldorf.de/event/tag-der-offenen-tuer-4/
END:VEVENT
BEGIN:VEVENT
DTSTART;TZID=Europe/Berlin:20250929T190000
DTEND;TZID=Europe/Berlin:20250929T200000
DTSTAMP:20260421T004219
CREATED:20250903T193937Z
LAST-MODIFIED:20250903T193937Z
UID:5361-1759172400-1759176000@www.st-peter-schule-duesseldorf.de
SUMMARY:Schulpflegschaft
DESCRIPTION:
URL:https://www.st-peter-schule-duesseldorf.de/event/schulpflegschaft/
END:VEVENT
BEGIN:VEVENT
DTSTART;TZID=Europe/Berlin:20250929T200000
DTEND;TZID=Europe/Berlin:20250929T210000
DTSTAMP:20260421T004219
CREATED:20250903T193856Z
LAST-MODIFIED:20250903T193856Z
UID:5359-1759176000-1759179600@www.st-peter-schule-duesseldorf.de
SUMMARY:Schulkonferenz
DESCRIPTION:
URL:https://www.st-peter-schule-duesseldorf.de/event/schulkonferenz-3/
END:VEVENT
END:VCALENDAR