BEGIN:VCALENDAR
VERSION:2.0
PRODID:-//St. Peter Schule - ECPv6.15.20//NONSGML v1.0//EN
CALSCALE:GREGORIAN
METHOD:PUBLISH
X-WR-CALNAME:St. Peter Schule
X-ORIGINAL-URL:https://www.st-peter-schule-duesseldorf.de
X-WR-CALDESC:Veranstaltungen für St. Peter Schule
REFRESH-INTERVAL;VALUE=DURATION:PT1H
X-Robots-Tag:noindex
X-PUBLISHED-TTL:PT1H
BEGIN:VTIMEZONE
TZID:Europe/Berlin
BEGIN:DAYLIGHT
TZOFFSETFROM:+0100
TZOFFSETTO:+0200
TZNAME:CEST
DTSTART:20240331T010000
END:DAYLIGHT
BEGIN:STANDARD
TZOFFSETFROM:+0200
TZOFFSETTO:+0100
TZNAME:CET
DTSTART:20241027T010000
END:STANDARD
BEGIN:DAYLIGHT
TZOFFSETFROM:+0100
TZOFFSETTO:+0200
TZNAME:CEST
DTSTART:20250330T010000
END:DAYLIGHT
BEGIN:STANDARD
TZOFFSETFROM:+0200
TZOFFSETTO:+0100
TZNAME:CET
DTSTART:20251026T010000
END:STANDARD
BEGIN:DAYLIGHT
TZOFFSETFROM:+0100
TZOFFSETTO:+0200
TZNAME:CEST
DTSTART:20260329T010000
END:DAYLIGHT
BEGIN:STANDARD
TZOFFSETFROM:+0200
TZOFFSETTO:+0100
TZNAME:CET
DTSTART:20261025T010000
END:STANDARD
END:VTIMEZONE
BEGIN:VEVENT
DTSTART;VALUE=DATE:20250728
DTEND;VALUE=DATE:20250802
DTSTAMP:20260421T022823
CREATED:20240827T141428Z
LAST-MODIFIED:20240828T065758Z
UID:4737-1753660800-1754092799@www.st-peter-schule-duesseldorf.de
SUMMARY:OGS Sommerferienprogramm
DESCRIPTION:Für die Teilnahme am Sommerferienprogramm ist eine Anmeldung erforderlich. Diese erhalten die Eltern der OGS-Kinder im Vorfeld per Email.
URL:https://www.st-peter-schule-duesseldorf.de/event/ogs-sommerferienprogramm-2/
END:VEVENT
BEGIN:VEVENT
DTSTART;VALUE=DATE:20250804
DTEND;VALUE=DATE:20250809
DTSTAMP:20260421T022823
CREATED:20240827T141515Z
LAST-MODIFIED:20240827T141515Z
UID:4739-1754265600-1754697599@www.st-peter-schule-duesseldorf.de
SUMMARY:OGS geschlossen
DESCRIPTION:
URL:https://www.st-peter-schule-duesseldorf.de/event/ogs-geschlossen-11/
END:VEVENT
BEGIN:VEVENT
DTSTART;VALUE=DATE:20250811
DTEND;VALUE=DATE:20250816
DTSTAMP:20260421T022823
CREATED:20240827T141601Z
LAST-MODIFIED:20240827T141601Z
UID:4741-1754870400-1755302399@www.st-peter-schule-duesseldorf.de
SUMMARY:OGS geschlossen
DESCRIPTION:
URL:https://www.st-peter-schule-duesseldorf.de/event/ogs-geschlossen-12/
END:VEVENT
BEGIN:VEVENT
DTSTART;VALUE=DATE:20250818
DTEND;VALUE=DATE:20250823
DTSTAMP:20260421T022823
CREATED:20240827T141629Z
LAST-MODIFIED:20240827T141629Z
UID:4743-1755475200-1755907199@www.st-peter-schule-duesseldorf.de
SUMMARY:OGS geschlossen
DESCRIPTION:
URL:https://www.st-peter-schule-duesseldorf.de/event/ogs-geschlossen-13/
END:VEVENT
BEGIN:VEVENT
DTSTART;VALUE=DATE:20250825
DTEND;VALUE=DATE:20250827
DTSTAMP:20260421T022823
CREATED:20240827T141707Z
LAST-MODIFIED:20240828T065825Z
UID:4745-1756080000-1756252799@www.st-peter-schule-duesseldorf.de
SUMMARY:OGS Sommerferienprogramm
DESCRIPTION:Für die Teilnahme am Sommerferienprogramm ist eine Anmeldung erforderlich. Diese erhalten die Eltern der OGS-Kinder im Vorfeld per Email.
URL:https://www.st-peter-schule-duesseldorf.de/event/ogs-sommerferienprogramm-3/
END:VEVENT
BEGIN:VEVENT
DTSTART;VALUE=DATE:20250827
DTEND;VALUE=DATE:20250828
DTSTAMP:20260421T022823
CREATED:20250812T054949Z
LAST-MODIFIED:20250812T054949Z
UID:5209-1756252800-1756339199@www.st-peter-schule-duesseldorf.de
SUMMARY:1. Schultag nach den Sommerferien
DESCRIPTION:
URL:https://www.st-peter-schule-duesseldorf.de/event/1-schultag-nach-den-sommerferien/
END:VEVENT
BEGIN:VEVENT
DTSTART;TZID=Europe/Berlin:20250828T081500
DTEND;TZID=Europe/Berlin:20250828T103000
DTSTAMP:20260421T022823
CREATED:20250812T055033Z
LAST-MODIFIED:20250812T145811Z
UID:5211-1756368900-1756377000@www.st-peter-schule-duesseldorf.de
SUMMARY:Einschulungsfeier
DESCRIPTION:
URL:https://www.st-peter-schule-duesseldorf.de/event/einschulungsfeier-2/
END:VEVENT
END:VCALENDAR