BEGIN:VCALENDAR
VERSION:2.0
PRODID:-//St. Peter Schule - ECPv6.15.20//NONSGML v1.0//EN
CALSCALE:GREGORIAN
METHOD:PUBLISH
X-WR-CALNAME:St. Peter Schule
X-ORIGINAL-URL:https://www.st-peter-schule-duesseldorf.de
X-WR-CALDESC:Veranstaltungen für St. Peter Schule
REFRESH-INTERVAL;VALUE=DURATION:PT1H
X-Robots-Tag:noindex
X-PUBLISHED-TTL:PT1H
BEGIN:VTIMEZONE
TZID:Europe/Berlin
BEGIN:DAYLIGHT
TZOFFSETFROM:+0100
TZOFFSETTO:+0200
TZNAME:CEST
DTSTART:20240331T010000
END:DAYLIGHT
BEGIN:STANDARD
TZOFFSETFROM:+0200
TZOFFSETTO:+0100
TZNAME:CET
DTSTART:20241027T010000
END:STANDARD
BEGIN:DAYLIGHT
TZOFFSETFROM:+0100
TZOFFSETTO:+0200
TZNAME:CEST
DTSTART:20250330T010000
END:DAYLIGHT
BEGIN:STANDARD
TZOFFSETFROM:+0200
TZOFFSETTO:+0100
TZNAME:CET
DTSTART:20251026T010000
END:STANDARD
BEGIN:DAYLIGHT
TZOFFSETFROM:+0100
TZOFFSETTO:+0200
TZNAME:CEST
DTSTART:20260329T010000
END:DAYLIGHT
BEGIN:STANDARD
TZOFFSETFROM:+0200
TZOFFSETTO:+0100
TZNAME:CET
DTSTART:20261025T010000
END:STANDARD
END:VTIMEZONE
BEGIN:VEVENT
DTSTART;VALUE=DATE:20250630
DTEND;VALUE=DATE:20250705
DTSTAMP:20260421T041446
CREATED:20240827T141157Z
LAST-MODIFIED:20240827T141157Z
UID:4734-1751241600-1751673599@www.st-peter-schule-duesseldorf.de
SUMMARY:OGS Abschlusswoche der 4. Klassen
DESCRIPTION:
URL:https://www.st-peter-schule-duesseldorf.de/event/ogs-abschlusswoche-der-4-klassen-2/
END:VEVENT
BEGIN:VEVENT
DTSTART;VALUE=DATE:20250707
DTEND;VALUE=DATE:20250710
DTSTAMP:20260421T041446
CREATED:20240819T061055Z
LAST-MODIFIED:20250619T114529Z
UID:4169-1751846400-1752105599@www.st-peter-schule-duesseldorf.de
SUMMARY:Klassenfahrt 3. Klassen
DESCRIPTION:
URL:https://www.st-peter-schule-duesseldorf.de/event/klassenfahrt-3-klassen/
END:VEVENT
BEGIN:VEVENT
DTSTART;VALUE=DATE:20250709
DTEND;VALUE=DATE:20250710
DTSTAMP:20260421T041446
CREATED:20240819T061137Z
LAST-MODIFIED:20240819T061137Z
UID:4171-1752019200-1752105599@www.st-peter-schule-duesseldorf.de
SUMMARY:voraussichtliche Ausgabe Zeugniskopie
DESCRIPTION:
URL:https://www.st-peter-schule-duesseldorf.de/event/voraussichtliche-ausgabe-zeugniskopie/
END:VEVENT
BEGIN:VEVENT
DTSTART;VALUE=DATE:20250709
DTEND;VALUE=DATE:20250710
DTSTAMP:20260421T041446
CREATED:20240819T061302Z
LAST-MODIFIED:20240819T061302Z
UID:4175-1752019200-1752105599@www.st-peter-schule-duesseldorf.de
SUMMARY:Abschluss 4. Klassen
DESCRIPTION:
URL:https://www.st-peter-schule-duesseldorf.de/event/abschluss-4-klassen/
END:VEVENT
BEGIN:VEVENT
DTSTART;VALUE=DATE:20250711
DTEND;VALUE=DATE:20250712
DTSTAMP:20260421T041446
CREATED:20240819T061227Z
LAST-MODIFIED:20240819T061227Z
UID:4173-1752192000-1752278399@www.st-peter-schule-duesseldorf.de
SUMMARY:Zeugnisausgabe (alle Klassen)
DESCRIPTION:
URL:https://www.st-peter-schule-duesseldorf.de/event/zeugnisausgabe-alle-klassen/
END:VEVENT
BEGIN:VEVENT
DTSTART;VALUE=DATE:20250714
DTEND;VALUE=DATE:20250719
DTSTAMP:20260421T041446
CREATED:20240827T140755Z
LAST-MODIFIED:20240828T065714Z
UID:4729-1752451200-1752883199@www.st-peter-schule-duesseldorf.de
SUMMARY:OGS Sommerferienprogramm
DESCRIPTION:Für die Teilnahme am Sommerferienprogramm ist eine Anmeldung erforderlich. Diese erhalten die Eltern der OGS-Kinder im Vorfeld per Email.
URL:https://www.st-peter-schule-duesseldorf.de/event/ogs-sommerferienprogramm/
END:VEVENT
BEGIN:VEVENT
DTSTART;VALUE=DATE:20250721
DTEND;VALUE=DATE:20250726
DTSTAMP:20260421T041446
CREATED:20240827T141021Z
LAST-MODIFIED:20240828T065743Z
UID:4731-1753056000-1753487999@www.st-peter-schule-duesseldorf.de
SUMMARY:OGS Sommerferienprogramm
DESCRIPTION:Für die Teilnahme am Sommerferienprogramm ist eine Anmeldung erforderlich. Diese erhalten die Eltern der OGS-Kinder im Vorfeld per Email.
URL:https://www.st-peter-schule-duesseldorf.de/event/ogs-abschlusswoche-der-4-klassen/
END:VEVENT
BEGIN:VEVENT
DTSTART;VALUE=DATE:20250728
DTEND;VALUE=DATE:20250802
DTSTAMP:20260421T041446
CREATED:20240827T141428Z
LAST-MODIFIED:20240828T065758Z
UID:4737-1753660800-1754092799@www.st-peter-schule-duesseldorf.de
SUMMARY:OGS Sommerferienprogramm
DESCRIPTION:Für die Teilnahme am Sommerferienprogramm ist eine Anmeldung erforderlich. Diese erhalten die Eltern der OGS-Kinder im Vorfeld per Email.
URL:https://www.st-peter-schule-duesseldorf.de/event/ogs-sommerferienprogramm-2/
END:VEVENT
END:VCALENDAR