BEGIN:VCALENDAR
VERSION:2.0
PRODID:-//St. Peter Schule - ECPv6.15.20//NONSGML v1.0//EN
CALSCALE:GREGORIAN
METHOD:PUBLISH
X-ORIGINAL-URL:https://www.st-peter-schule-duesseldorf.de
X-WR-CALDESC:Veranstaltungen für St. Peter Schule
REFRESH-INTERVAL;VALUE=DURATION:PT1H
X-Robots-Tag:noindex
X-PUBLISHED-TTL:PT1H
BEGIN:VTIMEZONE
TZID:Europe/Berlin
BEGIN:DAYLIGHT
TZOFFSETFROM:+0100
TZOFFSETTO:+0200
TZNAME:CEST
DTSTART:20240331T010000
END:DAYLIGHT
BEGIN:STANDARD
TZOFFSETFROM:+0200
TZOFFSETTO:+0100
TZNAME:CET
DTSTART:20241027T010000
END:STANDARD
BEGIN:DAYLIGHT
TZOFFSETFROM:+0100
TZOFFSETTO:+0200
TZNAME:CEST
DTSTART:20250330T010000
END:DAYLIGHT
BEGIN:STANDARD
TZOFFSETFROM:+0200
TZOFFSETTO:+0100
TZNAME:CET
DTSTART:20251026T010000
END:STANDARD
BEGIN:DAYLIGHT
TZOFFSETFROM:+0100
TZOFFSETTO:+0200
TZNAME:CEST
DTSTART:20260329T010000
END:DAYLIGHT
BEGIN:STANDARD
TZOFFSETFROM:+0200
TZOFFSETTO:+0100
TZNAME:CET
DTSTART:20261025T010000
END:STANDARD
END:VTIMEZONE
BEGIN:VEVENT
DTSTART;TZID=Europe/Berlin:20250605T100000
DTEND;TZID=Europe/Berlin:20250605T110000
DTSTAMP:20260421T060107
CREATED:20240819T060828Z
LAST-MODIFIED:20240819T060828Z
UID:4159-1749117600-1749121200@www.st-peter-schule-duesseldorf.de
SUMMARY:Singpausenkonzert
DESCRIPTION:-Uhrzeit noch nicht festgelegt-
URL:https://www.st-peter-schule-duesseldorf.de/event/singpausenkonzert-2/
END:VEVENT
BEGIN:VEVENT
DTSTART;VALUE=DATE:20250609
DTEND;VALUE=DATE:20250611
DTSTAMP:20260421T060107
CREATED:20240819T060858Z
LAST-MODIFIED:20240819T060858Z
UID:4161-1749427200-1749599999@www.st-peter-schule-duesseldorf.de
SUMMARY:Pfingsten (schulfrei)
DESCRIPTION:
URL:https://www.st-peter-schule-duesseldorf.de/event/pfingsten-schulfrei-2/
END:VEVENT
BEGIN:VEVENT
DTSTART;TZID=Europe/Berlin:20250610T080000
DTEND;TZID=Europe/Berlin:20250610T163000
DTSTAMP:20260421T060107
CREATED:20240827T140445Z
LAST-MODIFIED:20240828T070239Z
UID:4723-1749542400-1749573000@www.st-peter-schule-duesseldorf.de
SUMMARY:OGS geöffnet
DESCRIPTION:Für die Teilnahme ist eine Anmeldung erforderlich. Diese erhalten die Eltern der OGS-Kinder im Vorfeld per Email.
URL:https://www.st-peter-schule-duesseldorf.de/event/ogs-geoeffnet-5/
END:VEVENT
BEGIN:VEVENT
DTSTART;TZID=Europe/Berlin:20250613T080000
DTEND;TZID=Europe/Berlin:20250613T110000
DTSTAMP:20260421T060107
CREATED:20240819T060931Z
LAST-MODIFIED:20240819T060931Z
UID:4163-1749801600-1749812400@www.st-peter-schule-duesseldorf.de
SUMMARY:Sponsorenlauf
DESCRIPTION:
URL:https://www.st-peter-schule-duesseldorf.de/event/sponsorenlauf-2/
END:VEVENT
BEGIN:VEVENT
DTSTART;VALUE=DATE:20250619
DTEND;VALUE=DATE:20250621
DTSTAMP:20260421T060107
CREATED:20240819T060959Z
LAST-MODIFIED:20240819T060959Z
UID:4165-1750291200-1750463999@www.st-peter-schule-duesseldorf.de
SUMMARY:Fronleichnam und beweglicher Ferientag (schulfrei)
DESCRIPTION:
URL:https://www.st-peter-schule-duesseldorf.de/event/fronleichnam-und-beweglicher-ferientag-schulfrei/
END:VEVENT
BEGIN:VEVENT
DTSTART;TZID=Europe/Berlin:20250620T080000
DTEND;TZID=Europe/Berlin:20250620T153000
DTSTAMP:20260421T060107
CREATED:20240827T140605Z
LAST-MODIFIED:20240828T070309Z
UID:4725-1750406400-1750433400@www.st-peter-schule-duesseldorf.de
SUMMARY:OGS geöffnet
DESCRIPTION:Für die Teilnahme ist eine Anmeldung erforderlich. Diese erhalten die Eltern der OGS-Kinder im Vorfeld per Email.
URL:https://www.st-peter-schule-duesseldorf.de/event/ogs-abschlusswoche-der-4-klaessler/
END:VEVENT
BEGIN:VEVENT
DTSTART;VALUE=DATE:20250627
DTEND;VALUE=DATE:20250628
DTSTAMP:20260421T060107
CREATED:20240819T061027Z
LAST-MODIFIED:20240819T082633Z
UID:4167-1750982400-1751068799@www.st-peter-schule-duesseldorf.de
SUMMARY:Sportfest für Klasse 1-4
DESCRIPTION:
URL:https://www.st-peter-schule-duesseldorf.de/event/sportfest-klassen-34/
END:VEVENT
BEGIN:VEVENT
DTSTART;VALUE=DATE:20250630
DTEND;VALUE=DATE:20250705
DTSTAMP:20260421T060107
CREATED:20240827T141157Z
LAST-MODIFIED:20240827T141157Z
UID:4734-1751241600-1751673599@www.st-peter-schule-duesseldorf.de
SUMMARY:OGS Abschlusswoche der 4. Klassen
DESCRIPTION:
URL:https://www.st-peter-schule-duesseldorf.de/event/ogs-abschlusswoche-der-4-klassen-2/
END:VEVENT
END:VCALENDAR