BEGIN:VCALENDAR
VERSION:2.0
PRODID:-//St. Peter Schule - ECPv6.15.20//NONSGML v1.0//EN
CALSCALE:GREGORIAN
METHOD:PUBLISH
X-ORIGINAL-URL:https://www.st-peter-schule-duesseldorf.de
X-WR-CALDESC:Veranstaltungen für St. Peter Schule
REFRESH-INTERVAL;VALUE=DURATION:PT1H
X-Robots-Tag:noindex
X-PUBLISHED-TTL:PT1H
BEGIN:VTIMEZONE
TZID:Europe/Berlin
BEGIN:DAYLIGHT
TZOFFSETFROM:+0100
TZOFFSETTO:+0200
TZNAME:CEST
DTSTART:20240331T010000
END:DAYLIGHT
BEGIN:STANDARD
TZOFFSETFROM:+0200
TZOFFSETTO:+0100
TZNAME:CET
DTSTART:20241027T010000
END:STANDARD
BEGIN:DAYLIGHT
TZOFFSETFROM:+0100
TZOFFSETTO:+0200
TZNAME:CEST
DTSTART:20250330T010000
END:DAYLIGHT
BEGIN:STANDARD
TZOFFSETFROM:+0200
TZOFFSETTO:+0100
TZNAME:CET
DTSTART:20251026T010000
END:STANDARD
BEGIN:DAYLIGHT
TZOFFSETFROM:+0100
TZOFFSETTO:+0200
TZNAME:CEST
DTSTART:20260329T010000
END:DAYLIGHT
BEGIN:STANDARD
TZOFFSETFROM:+0200
TZOFFSETTO:+0100
TZNAME:CET
DTSTART:20261025T010000
END:STANDARD
END:VTIMEZONE
BEGIN:VEVENT
DTSTART;VALUE=DATE:20250501
DTEND;VALUE=DATE:20250502
DTSTAMP:20260421T075102
CREATED:20240819T060424Z
LAST-MODIFIED:20240819T060424Z
UID:4149-1746057600-1746143999@www.st-peter-schule-duesseldorf.de
SUMMARY:Tag der deutschen Einheit (schulfrei)
DESCRIPTION:
URL:https://www.st-peter-schule-duesseldorf.de/event/tag-der-deutschen-einheit-schulfrei/
END:VEVENT
BEGIN:VEVENT
DTSTART;VALUE=DATE:20250506
DTEND;VALUE=DATE:20250510
DTSTAMP:20260421T075102
CREATED:20240819T060616Z
LAST-MODIFIED:20240819T060616Z
UID:4153-1746489600-1746835199@www.st-peter-schule-duesseldorf.de
SUMMARY:Projektwoche (Thema wird noch bekanntgegeben)
DESCRIPTION:
URL:https://www.st-peter-schule-duesseldorf.de/event/projektwoche-thema-wird-noch-bekanntgegeben/
END:VEVENT
BEGIN:VEVENT
DTSTART;VALUE=DATE:20250509
DTEND;VALUE=DATE:20250510
DTSTAMP:20260421T075102
CREATED:20240819T060524Z
LAST-MODIFIED:20240819T060524Z
UID:4151-1746748800-1746835199@www.st-peter-schule-duesseldorf.de
SUMMARY:Schulfest
DESCRIPTION:
URL:https://www.st-peter-schule-duesseldorf.de/event/schulfest-2/
END:VEVENT
BEGIN:VEVENT
DTSTART;TZID=Europe/Berlin:20250516T150000
DTEND;TZID=Europe/Berlin:20250516T160000
DTSTAMP:20260421T075102
CREATED:20240827T135649Z
LAST-MODIFIED:20240827T135649Z
UID:4717-1747407600-1747411200@www.st-peter-schule-duesseldorf.de
SUMMARY:OGS Tag der Talente
DESCRIPTION:
URL:https://www.st-peter-schule-duesseldorf.de/event/ogs-tag-der-talente/
END:VEVENT
BEGIN:VEVENT
DTSTART;VALUE=DATE:20250521
DTEND;VALUE=DATE:20250522
DTSTAMP:20260421T075102
CREATED:20240819T060656Z
LAST-MODIFIED:20240819T071214Z
UID:4155-1747785600-1747871999@www.st-peter-schule-duesseldorf.de
SUMMARY:Kennenlernnachmittag für die neuen ersten Klassen
DESCRIPTION:-Uhrzeit wird noch bekanntgegeben-
URL:https://www.st-peter-schule-duesseldorf.de/event/kennenlernnachmittag-elas/
END:VEVENT
BEGIN:VEVENT
DTSTART;VALUE=DATE:20250524
DTEND;VALUE=DATE:20250526
DTSTAMP:20260421T075102
CREATED:20240827T135724Z
LAST-MODIFIED:20240827T140319Z
UID:4719-1748044800-1748217599@www.st-peter-schule-duesseldorf.de
SUMMARY:OGS Vater-Kind-Wochenende
DESCRIPTION:
URL:https://www.st-peter-schule-duesseldorf.de/event/ogs-vater-kind-wochenende/
END:VEVENT
BEGIN:VEVENT
DTSTART;VALUE=DATE:20250529
DTEND;VALUE=DATE:20250531
DTSTAMP:20260421T075102
CREATED:20240819T060735Z
LAST-MODIFIED:20240819T060735Z
UID:4157-1748476800-1748649599@www.st-peter-schule-duesseldorf.de
SUMMARY:Christi Himmelfahrt (schulfrei) und beweglicher Ferientag
DESCRIPTION:
URL:https://www.st-peter-schule-duesseldorf.de/event/christi-himmelfahrt-schulfrei-und-beweglicher-ferientag/
END:VEVENT
BEGIN:VEVENT
DTSTART;TZID=Europe/Berlin:20250530T080000
DTEND;TZID=Europe/Berlin:20250530T153000
DTSTAMP:20260421T075102
CREATED:20240827T140400Z
LAST-MODIFIED:20240828T070140Z
UID:4721-1748592000-1748619000@www.st-peter-schule-duesseldorf.de
SUMMARY:OGS geöffnet
DESCRIPTION:Für die Teilnahme ist eine Anmeldung erforderlich. Diese erhalten die Eltern der OGS-Kinder im Vorfeld per Email.
URL:https://www.st-peter-schule-duesseldorf.de/event/ogs-geoeffnet-4/
END:VEVENT
END:VCALENDAR