BEGIN:VCALENDAR
VERSION:2.0
PRODID:-//St. Peter Schule - ECPv6.15.20//NONSGML v1.0//EN
CALSCALE:GREGORIAN
METHOD:PUBLISH
X-WR-CALNAME:St. Peter Schule
X-ORIGINAL-URL:https://www.st-peter-schule-duesseldorf.de
X-WR-CALDESC:Veranstaltungen für St. Peter Schule
REFRESH-INTERVAL;VALUE=DURATION:PT1H
X-Robots-Tag:noindex
X-PUBLISHED-TTL:PT1H
BEGIN:VTIMEZONE
TZID:Europe/Berlin
BEGIN:DAYLIGHT
TZOFFSETFROM:+0100
TZOFFSETTO:+0200
TZNAME:CEST
DTSTART:20240331T010000
END:DAYLIGHT
BEGIN:STANDARD
TZOFFSETFROM:+0200
TZOFFSETTO:+0100
TZNAME:CET
DTSTART:20241027T010000
END:STANDARD
BEGIN:DAYLIGHT
TZOFFSETFROM:+0100
TZOFFSETTO:+0200
TZNAME:CEST
DTSTART:20250330T010000
END:DAYLIGHT
BEGIN:STANDARD
TZOFFSETFROM:+0200
TZOFFSETTO:+0100
TZNAME:CET
DTSTART:20251026T010000
END:STANDARD
BEGIN:DAYLIGHT
TZOFFSETFROM:+0100
TZOFFSETTO:+0200
TZNAME:CEST
DTSTART:20260329T010000
END:DAYLIGHT
BEGIN:STANDARD
TZOFFSETFROM:+0200
TZOFFSETTO:+0100
TZNAME:CET
DTSTART:20261025T010000
END:STANDARD
END:VTIMEZONE
BEGIN:VEVENT
DTSTART;VALUE=DATE:20250402
DTEND;VALUE=DATE:20250403
DTSTAMP:20260421T094218
CREATED:20250331T102814Z
LAST-MODIFIED:20250331T102814Z
UID:5038-1743552000-1743638399@www.st-peter-schule-duesseldorf.de
SUMMARY:Pädagogischer Tag (schulfrei)
DESCRIPTION:
URL:https://www.st-peter-schule-duesseldorf.de/event/paedagogischer-tag-schulfrei/
END:VEVENT
BEGIN:VEVENT
DTSTART;VALUE=DATE:20250407
DTEND;VALUE=DATE:20250412
DTSTAMP:20260421T094218
CREATED:20240819T060221Z
LAST-MODIFIED:20240819T060221Z
UID:4143-1743984000-1744415999@www.st-peter-schule-duesseldorf.de
SUMMARY:Elternsprechwoche
DESCRIPTION:Terminvergabe erfolgt über Ihre Klassenlehrkraft!
URL:https://www.st-peter-schule-duesseldorf.de/event/elternsprechwoche-3/
END:VEVENT
BEGIN:VEVENT
DTSTART;VALUE=DATE:20250411
DTEND;VALUE=DATE:20250412
DTSTAMP:20260421T094218
CREATED:20240819T060301Z
LAST-MODIFIED:20240819T060301Z
UID:4145-1744329600-1744415999@www.st-peter-schule-duesseldorf.de
SUMMARY:Spielzeugtag für alle Klassen
DESCRIPTION:
URL:https://www.st-peter-schule-duesseldorf.de/event/spielzeugtag-fuer-alle-klassen-2/
END:VEVENT
BEGIN:VEVENT
DTSTART;VALUE=DATE:20250414
DTEND;VALUE=DATE:20250418
DTSTAMP:20260421T094218
CREATED:20240827T135323Z
LAST-MODIFIED:20240903T154529Z
UID:4711-1744588800-1744934399@www.st-peter-schule-duesseldorf.de
SUMMARY:OGS Osterferienfahrt
DESCRIPTION:Für die Teilnahme an der Osterfahrt ist eine Anmeldung erforderlich. Die Tage für die Anmeldung sind am 03.12.2024 von 8.00 bis 9.00 Uhr sowie am 04.12.2024 von 15.00 bis 16.00 Uhr bei Frau Schäfer.
URL:https://www.st-peter-schule-duesseldorf.de/event/ogs-osterferienfahrt/
END:VEVENT
BEGIN:VEVENT
DTSTART;VALUE=DATE:20250414
DTEND;VALUE=DATE:20250428
DTSTAMP:20260421T094218
CREATED:20240819T060333Z
LAST-MODIFIED:20240903T154552Z
UID:4147-1744588800-1745798399@www.st-peter-schule-duesseldorf.de
SUMMARY:Osterferien
DESCRIPTION:
URL:https://www.st-peter-schule-duesseldorf.de/event/osterferien-2/
END:VEVENT
BEGIN:VEVENT
DTSTART;VALUE=DATE:20250418
DTEND;VALUE=DATE:20250419
DTSTAMP:20260421T094218
CREATED:20240827T135448Z
LAST-MODIFIED:20240827T135448Z
UID:4713-1744934400-1745020799@www.st-peter-schule-duesseldorf.de
SUMMARY:OGS geschlossen
DESCRIPTION:
URL:https://www.st-peter-schule-duesseldorf.de/event/ogs-geschlossen-9/
END:VEVENT
BEGIN:VEVENT
DTSTART;VALUE=DATE:20250421
DTEND;VALUE=DATE:20250426
DTSTAMP:20260421T094218
CREATED:20240827T135539Z
LAST-MODIFIED:20240827T135550Z
UID:4715-1745193600-1745625599@www.st-peter-schule-duesseldorf.de
SUMMARY:OGS geschlossen
DESCRIPTION:
URL:https://www.st-peter-schule-duesseldorf.de/event/ogs-geschlossen-10/
END:VEVENT
END:VCALENDAR