BEGIN:VCALENDAR
VERSION:2.0
PRODID:-//St. Peter Schule - ECPv6.15.20//NONSGML v1.0//EN
CALSCALE:GREGORIAN
METHOD:PUBLISH
X-WR-CALNAME:St. Peter Schule
X-ORIGINAL-URL:https://www.st-peter-schule-duesseldorf.de
X-WR-CALDESC:Veranstaltungen für St. Peter Schule
REFRESH-INTERVAL;VALUE=DURATION:PT1H
X-Robots-Tag:noindex
X-PUBLISHED-TTL:PT1H
BEGIN:VTIMEZONE
TZID:Europe/Berlin
BEGIN:DAYLIGHT
TZOFFSETFROM:+0100
TZOFFSETTO:+0200
TZNAME:CEST
DTSTART:20240331T010000
END:DAYLIGHT
BEGIN:STANDARD
TZOFFSETFROM:+0200
TZOFFSETTO:+0100
TZNAME:CET
DTSTART:20241027T010000
END:STANDARD
BEGIN:DAYLIGHT
TZOFFSETFROM:+0100
TZOFFSETTO:+0200
TZNAME:CEST
DTSTART:20250330T010000
END:DAYLIGHT
BEGIN:STANDARD
TZOFFSETFROM:+0200
TZOFFSETTO:+0100
TZNAME:CET
DTSTART:20251026T010000
END:STANDARD
BEGIN:DAYLIGHT
TZOFFSETFROM:+0100
TZOFFSETTO:+0200
TZNAME:CEST
DTSTART:20260329T010000
END:DAYLIGHT
BEGIN:STANDARD
TZOFFSETFROM:+0200
TZOFFSETTO:+0100
TZNAME:CET
DTSTART:20261025T010000
END:STANDARD
END:VTIMEZONE
BEGIN:VEVENT
DTSTART;VALUE=DATE:20250207
DTEND;VALUE=DATE:20250208
DTSTAMP:20260421T142513
CREATED:20240819T060041Z
LAST-MODIFIED:20240819T073314Z
UID:4137-1738886400-1738972799@www.st-peter-schule-duesseldorf.de
SUMMARY:Zeugnisausgabe (Kopie)
DESCRIPTION:Bitte unterschreiben und schnellstmöglich an die Klassenlehrerin zurückgeben!
URL:https://www.st-peter-schule-duesseldorf.de/event/voraussichtliche-zeugnisausgabe-kopie/
END:VEVENT
BEGIN:VEVENT
DTSTART;TZID=Europe/Berlin:20250222T100000
DTEND;TZID=Europe/Berlin:20250222T120000
DTSTAMP:20260421T142513
CREATED:20240827T134953Z
LAST-MODIFIED:20240827T134953Z
UID:4705-1740218400-1740225600@www.st-peter-schule-duesseldorf.de
SUMMARY:OGS Turnhallentag
DESCRIPTION:
URL:https://www.st-peter-schule-duesseldorf.de/event/ogs-turnhallentag/
END:VEVENT
BEGIN:VEVENT
DTSTART;VALUE=DATE:20250228
DTEND;VALUE=DATE:20250301
DTSTAMP:20260421T142513
CREATED:20240819T060114Z
LAST-MODIFIED:20240819T060114Z
UID:4139-1740700800-1740787199@www.st-peter-schule-duesseldorf.de
SUMMARY:Beweglicher Ferientag (schulfrei)
DESCRIPTION:
URL:https://www.st-peter-schule-duesseldorf.de/event/beweglicher-ferientag-schulfrei/
END:VEVENT
BEGIN:VEVENT
DTSTART;TZID=Europe/Berlin:20250228T080000
DTEND;TZID=Europe/Berlin:20250228T153000
DTSTAMP:20260421T142513
CREATED:20240827T135202Z
LAST-MODIFIED:20240827T135202Z
UID:4707-1740729600-1740756600@www.st-peter-schule-duesseldorf.de
SUMMARY:OGS Karnevalsfeier
DESCRIPTION:
URL:https://www.st-peter-schule-duesseldorf.de/event/ogs-karnevalsfeier/
END:VEVENT
END:VCALENDAR