BEGIN:VCALENDAR
VERSION:2.0
PRODID:-//St. Peter Schule - ECPv6.15.20//NONSGML v1.0//EN
CALSCALE:GREGORIAN
METHOD:PUBLISH
X-WR-CALNAME:St. Peter Schule
X-ORIGINAL-URL:https://www.st-peter-schule-duesseldorf.de
X-WR-CALDESC:Veranstaltungen für St. Peter Schule
REFRESH-INTERVAL;VALUE=DURATION:PT1H
X-Robots-Tag:noindex
X-PUBLISHED-TTL:PT1H
BEGIN:VTIMEZONE
TZID:Europe/Berlin
BEGIN:DAYLIGHT
TZOFFSETFROM:+0100
TZOFFSETTO:+0200
TZNAME:CEST
DTSTART:20240331T010000
END:DAYLIGHT
BEGIN:STANDARD
TZOFFSETFROM:+0200
TZOFFSETTO:+0100
TZNAME:CET
DTSTART:20241027T010000
END:STANDARD
BEGIN:DAYLIGHT
TZOFFSETFROM:+0100
TZOFFSETTO:+0200
TZNAME:CEST
DTSTART:20250330T010000
END:DAYLIGHT
BEGIN:STANDARD
TZOFFSETFROM:+0200
TZOFFSETTO:+0100
TZNAME:CET
DTSTART:20251026T010000
END:STANDARD
BEGIN:DAYLIGHT
TZOFFSETFROM:+0100
TZOFFSETTO:+0200
TZNAME:CEST
DTSTART:20260329T010000
END:DAYLIGHT
BEGIN:STANDARD
TZOFFSETFROM:+0200
TZOFFSETTO:+0100
TZNAME:CET
DTSTART:20261025T010000
END:STANDARD
END:VTIMEZONE
BEGIN:VEVENT
DTSTART;VALUE=DATE:20250609
DTEND;VALUE=DATE:20250611
DTSTAMP:20260421T074344
CREATED:20240819T060858Z
LAST-MODIFIED:20240819T060858Z
UID:4161-1749427200-1749599999@www.st-peter-schule-duesseldorf.de
SUMMARY:Pfingsten (schulfrei)
DESCRIPTION:
URL:https://www.st-peter-schule-duesseldorf.de/event/pfingsten-schulfrei-2/
END:VEVENT
BEGIN:VEVENT
DTSTART;TZID=Europe/Berlin:20250610T080000
DTEND;TZID=Europe/Berlin:20250610T163000
DTSTAMP:20260421T074344
CREATED:20240827T140445Z
LAST-MODIFIED:20240828T070239Z
UID:4723-1749542400-1749573000@www.st-peter-schule-duesseldorf.de
SUMMARY:OGS geöffnet
DESCRIPTION:Für die Teilnahme ist eine Anmeldung erforderlich. Diese erhalten die Eltern der OGS-Kinder im Vorfeld per Email.
URL:https://www.st-peter-schule-duesseldorf.de/event/ogs-geoeffnet-5/
END:VEVENT
END:VCALENDAR